BEGIN:VCALENDAR
VERSION:2.0
PRODID:-// - ECPv6.15.20//NONSGML v1.0//EN
CALSCALE:GREGORIAN
METHOD:PUBLISH
X-ORIGINAL-URL:http://www.thelongbowclub.com
X-WR-CALDESC:Events for 
REFRESH-INTERVAL;VALUE=DURATION:PT1H
X-Robots-Tag:noindex
X-PUBLISHED-TTL:PT1H
BEGIN:VTIMEZONE
TZID:Europe/London
BEGIN:DAYLIGHT
TZOFFSETFROM:+0000
TZOFFSETTO:+0100
TZNAME:BST
DTSTART:20220327T010000
END:DAYLIGHT
BEGIN:STANDARD
TZOFFSETFROM:+0100
TZOFFSETTO:+0000
TZNAME:GMT
DTSTART:20221030T010000
END:STANDARD
BEGIN:DAYLIGHT
TZOFFSETFROM:+0000
TZOFFSETTO:+0100
TZNAME:BST
DTSTART:20230326T010000
END:DAYLIGHT
BEGIN:STANDARD
TZOFFSETFROM:+0100
TZOFFSETTO:+0000
TZNAME:GMT
DTSTART:20231029T010000
END:STANDARD
BEGIN:DAYLIGHT
TZOFFSETFROM:+0000
TZOFFSETTO:+0100
TZNAME:BST
DTSTART:20240331T010000
END:DAYLIGHT
BEGIN:STANDARD
TZOFFSETFROM:+0100
TZOFFSETTO:+0000
TZNAME:GMT
DTSTART:20241027T010000
END:STANDARD
BEGIN:DAYLIGHT
TZOFFSETFROM:+0000
TZOFFSETTO:+0100
TZNAME:BST
DTSTART:20250330T010000
END:DAYLIGHT
BEGIN:STANDARD
TZOFFSETFROM:+0100
TZOFFSETTO:+0000
TZNAME:GMT
DTSTART:20251026T010000
END:STANDARD
END:VTIMEZONE
BEGIN:VEVENT
DTSTART;TZID=Europe/London:20240121T100000
DTEND;TZID=Europe/London:20240121T170000
DTSTAMP:20260422T130251
CREATED:20211123T143552Z
LAST-MODIFIED:20231030T203219Z
UID:7282-1705831200-1705856400@www.thelongbowclub.com
SUMMARY:Bowbrook Archers - Shoot to the Marks
DESCRIPTION:The event is run under the auspices of the Shropshire Fraternity of Longbows and benefits from specific group insurance for roving marks. \nSoup and rolls will be provided at lunchtime. Can you let me know if you are planning to attend as soon as you can so that we can organise the catering appropriately.
URL:http://www.thelongbowclub.com/event/bowbrook-archers-shoot-to-the-marks/
LOCATION:Boreatton Park\, PGL Boreatton Park\, Baschurch\, Shropshire\, SY4 2EZ\, United Kingdom
CATEGORIES:King's Distance,Roving Marks
END:VEVENT
BEGIN:VEVENT
DTSTART;TZID=Europe/London:20231210T080000
DTEND;TZID=Europe/London:20231210T170000
DTSTAMP:20260422T130251
CREATED:20230921T112903Z
LAST-MODIFIED:20230921T112903Z
UID:10657-1702195200-1702227600@www.thelongbowclub.com
SUMMARY:Shire Bowmen Rove - Boughton
DESCRIPTION:Registration 9.00 – 10.15 \nFirst Arrows 10.30 \nBoughton House is a country house about 3 miles north-east of Kettering off the A4300 road near Geddington in Northamptonshire\, England.
URL:http://www.thelongbowclub.com/event/shire-bowmen-rove-boughton/
LOCATION:Boughton House\, Geddington Road\, Kettering\, Northamptonshire\, NN14 1BJ\, United Kingdom
CATEGORIES:King's Distance,Roving Marks
ORGANIZER;CN="Amanda Smith":MAILTO:amandadlsmith75@gmail.com
END:VEVENT
BEGIN:VEVENT
DTSTART;TZID=Europe/London:20231210T080000
DTEND;TZID=Europe/London:20231210T170000
DTSTAMP:20260422T130251
CREATED:20221107T145541Z
LAST-MODIFIED:20230912T085342Z
UID:9779-1702195200-1702227600@www.thelongbowclub.com
SUMMARY:Dell Farm Open 3d Field Shoot
DESCRIPTION:Always 36 challenging shots\, course changed across the year. Easy access course. \nFull details / to enter:\nNeil Clarke (theclarkes2013@outlook.com)
URL:http://www.thelongbowclub.com/event/dell-farm-open-3d-field-shoot-10/
LOCATION:Bowbrook Archers\, Withington\, Shropshire\, SY4 4PS\, United Kingdom
CATEGORIES:Field
ORGANIZER;CN="Neil Clarke":MAILTO:theclarkes2013@outlook.com
END:VEVENT
BEGIN:VEVENT
DTSTART;TZID=Europe/London:20231126T090000
DTEND;TZID=Europe/London:20231126T163000
DTSTAMP:20260422T130251
CREATED:20221015T224417Z
LAST-MODIFIED:20230921T111614Z
UID:9649-1700989200-1701016200@www.thelongbowclub.com
SUMMARY:Lamport Hall Rove
DESCRIPTION:Registration 09.00 – 10.15 \nFirst Arrows 10.30
URL:http://www.thelongbowclub.com/event/lamport-hall-rove/
LOCATION:Lamport Hall\, Lamport\, Northampton\, NN6 9HD
CATEGORIES:Roving Marks
ORGANIZER;CN="Amanda Smith":MAILTO:amandadlsmith75@gmail.com
END:VEVENT
BEGIN:VEVENT
DTSTART;TZID=Europe/London:20231111T080000
DTEND;TZID=Europe/London:20231111T170000
DTSTAMP:20260422T130251
CREATED:20221107T145503Z
LAST-MODIFIED:20221107T145503Z
UID:9777-1699689600-1699722000@www.thelongbowclub.com
SUMMARY:Dell Farm Open 3d Field Shoot
DESCRIPTION:Always 36 challenging shots\, course changed across the year. Easy access course. \nFull details / to enter:\nNeil Clarke (theclarkes2013@outlook.com)
URL:http://www.thelongbowclub.com/event/dell-farm-open-3d-field-shoot-9/
LOCATION:Bowbrook Archers\, Withington\, Shropshire\, SY4 4PS\, United Kingdom
CATEGORIES:Field
ORGANIZER;CN="Neil Clarke":MAILTO:theclarkes2013@outlook.com
END:VEVENT
BEGIN:VEVENT
DTSTART;TZID=Europe/London:20231022T090000
DTEND;TZID=Europe/London:20231022T170000
DTSTAMP:20260422T130251
CREATED:20221012T211944Z
LAST-MODIFIED:20230921T112248Z
UID:9644-1697965200-1697994000@www.thelongbowclub.com
SUMMARY:Shire Bowmen Rove - Boughton
DESCRIPTION:Registration 9.00 – 10.15 \nFirst Arrows 10.30 \nBoughton House is a country house about 3 miles north-east of Kettering off the A4300 road near Geddington in Northamptonshire\, England.
URL:http://www.thelongbowclub.com/event/shire-bowmen-rove-2/
LOCATION:Boughton House\, Geddington Road\, Kettering\, Northamptonshire\, NN14 1BJ\, United Kingdom
CATEGORIES:King's Distance,Roving Marks
ORGANIZER;CN="Amanda Smith":MAILTO:amandadlsmith75@gmail.com
END:VEVENT
BEGIN:VEVENT
DTSTART;TZID=Europe/London:20231008T080000
DTEND;TZID=Europe/London:20231008T170000
DTSTAMP:20260422T130251
CREATED:20221107T145336Z
LAST-MODIFIED:20221107T145336Z
UID:9773-1696752000-1696784400@www.thelongbowclub.com
SUMMARY:Dell Farm Open 3d Field Shoot
DESCRIPTION:Always 36 challenging shots\, course changed across the year. Easy access course. \nFull details / to enter:\nNeil Clarke (theclarkes2013@outlook.com)
URL:http://www.thelongbowclub.com/event/dell-farm-open-3d-field-shoot-8/
LOCATION:Bowbrook Archers\, Withington\, Shropshire\, SY4 4PS\, United Kingdom
CATEGORIES:Field
ORGANIZER;CN="Neil Clarke":MAILTO:theclarkes2013@outlook.com
END:VEVENT
BEGIN:VEVENT
DTSTART;TZID=Europe/London:20230924T100000
DTEND;TZID=Europe/London:20230924T170000
DTSTAMP:20260422T130251
CREATED:20221105T152806Z
LAST-MODIFIED:20230125T131602Z
UID:9770-1695549600-1695574800@www.thelongbowclub.com
SUMMARY:Totally Open Shoot
DESCRIPTION: 
URL:http://www.thelongbowclub.com/event/totally-open-shoot/
LOCATION:Bowbrook Archers\, Withington\, Shropshire\, SY4 4PS\, United Kingdom
CATEGORIES:Field
ORGANIZER;CN="Neil Clarke":MAILTO:theclarkes2013@outlook.com
END:VEVENT
END:VCALENDAR